BEGIN:VCALENDAR
VERSION:2.0
PRODID:-//Millhouse Primary School - ECPv6.0.5//NONSGML v1.0//EN
CALSCALE:GREGORIAN
METHOD:PUBLISH
X-WR-CALNAME:Millhouse Primary School
X-ORIGINAL-URL:https://www.millhouseprimary.co.uk
X-WR-CALDESC:Events for Millhouse Primary School
REFRESH-INTERVAL;VALUE=DURATION:PT1H
X-Robots-Tag:noindex
X-PUBLISHED-TTL:PT1H
BEGIN:VTIMEZONE
TZID:Europe/London
BEGIN:DAYLIGHT
TZOFFSETFROM:+0000
TZOFFSETTO:+0100
TZNAME:BST
DTSTART:20230326T010000
END:DAYLIGHT
BEGIN:STANDARD
TZOFFSETFROM:+0100
TZOFFSETTO:+0000
TZNAME:GMT
DTSTART:20231029T010000
END:STANDARD
END:VTIMEZONE
BEGIN:VEVENT
DTSTART;VALUE=DATE:20230929
DTEND;VALUE=DATE:20230930
DTSTAMP:20260420T113730
CREATED:20230918T203720Z
LAST-MODIFIED:20230918T203720Z
UID:7146-1695945600-1696031999@www.millhouseprimary.co.uk
SUMMARY:Key Stage 2 Author event
DESCRIPTION:
URL:https://www.millhouseprimary.co.uk/event/key-stage-2-author-event/
END:VEVENT
END:VCALENDAR