BEGIN:VCALENDAR
VERSION:2.0
PRODID:-//Millhouse Primary School - ECPv6.0.5//NONSGML v1.0//EN
CALSCALE:GREGORIAN
METHOD:PUBLISH
X-ORIGINAL-URL:https://www.millhouseprimary.co.uk
X-WR-CALDESC:Events for Millhouse Primary School
REFRESH-INTERVAL;VALUE=DURATION:PT1H
X-Robots-Tag:noindex
X-PUBLISHED-TTL:PT1H
BEGIN:VTIMEZONE
TZID:Europe/London
BEGIN:DAYLIGHT
TZOFFSETFROM:+0000
TZOFFSETTO:+0100
TZNAME:BST
DTSTART:20170326T010000
END:DAYLIGHT
BEGIN:STANDARD
TZOFFSETFROM:+0100
TZOFFSETTO:+0000
TZNAME:GMT
DTSTART:20171029T010000
END:STANDARD
BEGIN:DAYLIGHT
TZOFFSETFROM:+0000
TZOFFSETTO:+0100
TZNAME:BST
DTSTART:20180325T010000
END:DAYLIGHT
BEGIN:STANDARD
TZOFFSETFROM:+0100
TZOFFSETTO:+0000
TZNAME:GMT
DTSTART:20181028T010000
END:STANDARD
BEGIN:DAYLIGHT
TZOFFSETFROM:+0000
TZOFFSETTO:+0100
TZNAME:BST
DTSTART:20190331T010000
END:DAYLIGHT
BEGIN:STANDARD
TZOFFSETFROM:+0100
TZOFFSETTO:+0000
TZNAME:GMT
DTSTART:20191027T010000
END:STANDARD
BEGIN:DAYLIGHT
TZOFFSETFROM:+0000
TZOFFSETTO:+0100
TZNAME:BST
DTSTART:20200329T010000
END:DAYLIGHT
BEGIN:STANDARD
TZOFFSETFROM:+0100
TZOFFSETTO:+0000
TZNAME:GMT
DTSTART:20201025T010000
END:STANDARD
END:VTIMEZONE
BEGIN:VEVENT
DTSTART;TZID=Europe/London:20200129T090000
DTEND;TZID=Europe/London:20200129T113000
DTSTAMP:20260419T133311
CREATED:20190916T203044Z
LAST-MODIFIED:20190916T203044Z
UID:4653-1580288400-1580297400@www.millhouseprimary.co.uk
SUMMARY:Inspire morning - Class 1
DESCRIPTION:
URL:https://www.millhouseprimary.co.uk/event/inspire-morning-class-1-2/
CATEGORIES:Inspire Morning
END:VEVENT
BEGIN:VEVENT
DTSTART;TZID=Europe/London:20200122T090000
DTEND;TZID=Europe/London:20200122T113000
DTSTAMP:20260419T133311
CREATED:20190916T202926Z
LAST-MODIFIED:20190916T202926Z
UID:4651-1579683600-1579692600@www.millhouseprimary.co.uk
SUMMARY:Inspire morning - Class 2
DESCRIPTION:
URL:https://www.millhouseprimary.co.uk/event/inspire-morning-class-2-3/
CATEGORIES:Inspire Morning
END:VEVENT
BEGIN:VEVENT
DTSTART;TZID=Europe/London:20191204T090000
DTEND;TZID=Europe/London:20191204T113000
DTSTAMP:20260419T133311
CREATED:20190916T200847Z
LAST-MODIFIED:20190916T200855Z
UID:4623-1575450000-1575459000@www.millhouseprimary.co.uk
SUMMARY:Inspire morning - Class 3
DESCRIPTION:
URL:https://www.millhouseprimary.co.uk/event/inspire-morning-class-3/
CATEGORIES:Inspire Morning
END:VEVENT
BEGIN:VEVENT
DTSTART;TZID=Europe/London:20191127T090000
DTEND;TZID=Europe/London:20191127T113000
DTSTAMP:20260419T133311
CREATED:20190916T200606Z
LAST-MODIFIED:20190916T200606Z
UID:4619-1574845200-1574854200@www.millhouseprimary.co.uk
SUMMARY:Inspire morning - Class 4
DESCRIPTION:
URL:https://www.millhouseprimary.co.uk/event/inspire-morning-class-4-2/
CATEGORIES:Inspire Morning
END:VEVENT
BEGIN:VEVENT
DTSTART;TZID=Europe/London:20191120T090000
DTEND;TZID=Europe/London:20191120T110000
DTSTAMP:20260419T133311
CREATED:20190916T200519Z
LAST-MODIFIED:20190916T200519Z
UID:4617-1574240400-1574247600@www.millhouseprimary.co.uk
SUMMARY:Inspire morning - Class 5
DESCRIPTION:
URL:https://www.millhouseprimary.co.uk/event/inspire-morning-class-5/
CATEGORIES:Inspire Morning
END:VEVENT
BEGIN:VEVENT
DTSTART;TZID=Europe/London:20171206T090000
DTEND;TZID=Europe/London:20171206T110000
DTSTAMP:20260419T133311
CREATED:20171024T200845Z
LAST-MODIFIED:20171024T200845Z
UID:3040-1512550800-1512558000@www.millhouseprimary.co.uk
SUMMARY:Inspire Morning - Class 2
DESCRIPTION:Refreshment will be provided. \nMore information to follow.
URL:https://www.millhouseprimary.co.uk/event/inspire-morning-class-2/
LOCATION:Main Hall
CATEGORIES:Inspire Morning
END:VEVENT
BEGIN:VEVENT
DTSTART;TZID=Europe/London:20171129T090000
DTEND;TZID=Europe/London:20171129T230000
DTSTAMP:20260419T133311
CREATED:20171024T200703Z
LAST-MODIFIED:20171024T200703Z
UID:3038-1511946000-1511996400@www.millhouseprimary.co.uk
SUMMARY:Inspire Morning - Class 4
DESCRIPTION:Refreshments will be provided. \nMore information to follow.
URL:https://www.millhouseprimary.co.uk/event/inspire-morning-class-4/
LOCATION:Main Hall
CATEGORIES:Inspire Morning
END:VEVENT
END:VCALENDAR