BEGIN:VCALENDAR
VERSION:2.0
PRODID:-//Millhouse Primary School - ECPv6.0.5//NONSGML v1.0//EN
CALSCALE:GREGORIAN
METHOD:PUBLISH
X-ORIGINAL-URL:https://www.millhouseprimary.co.uk
X-WR-CALDESC:Events for Millhouse Primary School
REFRESH-INTERVAL;VALUE=DURATION:PT1H
X-Robots-Tag:noindex
X-PUBLISHED-TTL:PT1H
BEGIN:VTIMEZONE
TZID:Europe/London
BEGIN:DAYLIGHT
TZOFFSETFROM:+0000
TZOFFSETTO:+0100
TZNAME:BST
DTSTART:20150329T010000
END:DAYLIGHT
BEGIN:STANDARD
TZOFFSETFROM:+0100
TZOFFSETTO:+0000
TZNAME:GMT
DTSTART:20151025T010000
END:STANDARD
BEGIN:DAYLIGHT
TZOFFSETFROM:+0000
TZOFFSETTO:+0100
TZNAME:BST
DTSTART:20160327T010000
END:DAYLIGHT
BEGIN:STANDARD
TZOFFSETFROM:+0100
TZOFFSETTO:+0000
TZNAME:GMT
DTSTART:20161030T010000
END:STANDARD
BEGIN:DAYLIGHT
TZOFFSETFROM:+0000
TZOFFSETTO:+0100
TZNAME:BST
DTSTART:20170326T010000
END:DAYLIGHT
BEGIN:STANDARD
TZOFFSETFROM:+0100
TZOFFSETTO:+0000
TZNAME:GMT
DTSTART:20171029T010000
END:STANDARD
BEGIN:DAYLIGHT
TZOFFSETFROM:+0000
TZOFFSETTO:+0100
TZNAME:BST
DTSTART:20180325T010000
END:DAYLIGHT
BEGIN:STANDARD
TZOFFSETFROM:+0100
TZOFFSETTO:+0000
TZNAME:GMT
DTSTART:20181028T010000
END:STANDARD
END:VTIMEZONE
BEGIN:VEVENT
DTSTART;VALUE=DATE:20180521
DTEND;VALUE=DATE:20180522
DTSTAMP:20260419T162950
CREATED:20180419T104432Z
LAST-MODIFIED:20180419T104526Z
UID:3650-1526860800-1526947199@www.millhouseprimary.co.uk
SUMMARY:Visit to Butterfly House\, Sheffield - KS2
DESCRIPTION:Further details to follow.
URL:https://www.millhouseprimary.co.uk/event/visit-to-butterfly-house-sheffield-ks2/
CATEGORIES:School events,School Trips
END:VEVENT
BEGIN:VEVENT
DTSTART;VALUE=DATE:20171222
DTEND;VALUE=DATE:20171223
DTSTAMP:20260419T162950
CREATED:20171128T132851Z
LAST-MODIFIED:20171128T132934Z
UID:3248-1513900800-1513987199@www.millhouseprimary.co.uk
SUMMARY:Christmas Jumper Day
DESCRIPTION:Christmas jumpers (non-uniform day) in return for a small donation.
URL:https://www.millhouseprimary.co.uk/event/christmas-jumper-day/
CATEGORIES:Charity fundraising event,School events
END:VEVENT
BEGIN:VEVENT
DTSTART;TZID=Europe/London:20171220T090000
DTEND;TZID=Europe/London:20171220T110000
DTSTAMP:20260419T162950
CREATED:20171024T202242Z
LAST-MODIFIED:20171024T202242Z
UID:3047-1513760400-1513767600@www.millhouseprimary.co.uk
SUMMARY:Christmas Fayre
DESCRIPTION:
URL:https://www.millhouseprimary.co.uk/event/christmas-fayre-2/
LOCATION:School
CATEGORIES:School events
END:VEVENT
BEGIN:VEVENT
DTSTART;TZID=Europe/London:20171219T120000
DTEND;TZID=Europe/London:20171219T130000
DTSTAMP:20260419T162950
CREATED:20171128T132455Z
LAST-MODIFIED:20171128T132726Z
UID:3246-1513684800-1513688400@www.millhouseprimary.co.uk
SUMMARY:Christmas Dinner
DESCRIPTION:All children are invited to have lunch on this day. If your child normally has a packed lunch but would like to take part\, please send £2.00 in a named envelope\, marked ‘Christmas dinner’ by Friday 8 December.
URL:https://www.millhouseprimary.co.uk/event/christmas-dinner/
CATEGORIES:School events
END:VEVENT
BEGIN:VEVENT
DTSTART;TZID=Europe/London:20171213T140000
DTEND;TZID=Europe/London:20171213T150000
DTSTAMP:20260419T162950
CREATED:20171024T201634Z
LAST-MODIFIED:20171128T132024Z
UID:3045-1513173600-1513177200@www.millhouseprimary.co.uk
SUMMARY:Nativity (KS1)
DESCRIPTION:
URL:https://www.millhouseprimary.co.uk/event/nativity-ks1-3/
LOCATION:Main Hall
CATEGORIES:School events
END:VEVENT
BEGIN:VEVENT
DTSTART;TZID=Europe/London:20171212T093000
DTEND;TZID=Europe/London:20171212T110000
DTSTAMP:20260419T162950
CREATED:20171024T201351Z
LAST-MODIFIED:20171024T201351Z
UID:3043-1513071000-1513076400@www.millhouseprimary.co.uk
SUMMARY:Nativity (KS1)
DESCRIPTION:
URL:https://www.millhouseprimary.co.uk/event/nativity-ks1-2/
LOCATION:Main Hall
CATEGORIES:School events
END:VEVENT
BEGIN:VEVENT
DTSTART;TZID=Europe/London:20171024T090000
DTEND;TZID=Europe/London:20171024T120000
DTSTAMP:20260419T162950
CREATED:20171024T192735Z
LAST-MODIFIED:20171024T192735Z
UID:3010-1508835600-1508846400@www.millhouseprimary.co.uk
SUMMARY:Bikeability (Year 5)
DESCRIPTION:
URL:https://www.millhouseprimary.co.uk/event/bikeability-year-5-2/
CATEGORIES:School events
END:VEVENT
BEGIN:VEVENT
DTSTART;VALUE=DATE:20171016
DTEND;VALUE=DATE:20171021
DTSTAMP:20260419T162950
CREATED:20171002T014817Z
LAST-MODIFIED:20171002T014840Z
UID:2827-1508112000-1508543999@www.millhouseprimary.co.uk
SUMMARY:Road Safety Week
DESCRIPTION:There will be lots of special events\, guests and discussions surrounding Road Safety in school throughout the week.
URL:https://www.millhouseprimary.co.uk/event/road-safety-week/
CATEGORIES:Road Safety week,School events
END:VEVENT
BEGIN:VEVENT
DTSTART;VALUE=DATE:20161005
DTEND;VALUE=DATE:20161006
DTSTAMP:20260419T162950
CREATED:20160915T203054Z
LAST-MODIFIED:20160915T203054Z
UID:1255-1475625600-1475711999@www.millhouseprimary.co.uk
SUMMARY:Individual and family photographs
DESCRIPTION:The children of Millhouse Primary School always look extremely smart and presentable but never more so than on photograph day! \nSpecific times to follow shortly.
URL:https://www.millhouseprimary.co.uk/event/individual-and-family-photographs/
LOCATION:School
CATEGORIES:Photos,School events
END:VEVENT
BEGIN:VEVENT
DTSTART;TZID=Europe/London:20160930T091500
DTEND;TZID=Europe/London:20160930T110000
DTSTAMP:20260419T162950
CREATED:20160915T202214Z
LAST-MODIFIED:20160915T202214Z
UID:1252-1475226900-1475233200@www.millhouseprimary.co.uk
SUMMARY:Macmillan Coffee Morning
DESCRIPTION:There are now 2.5 million people in the UK living with cancer. By 2030\, it will be 4 million people\, and we want to be there for them all. \nMany of us have been affected by cancer and know how difficult and emotional time it is. Macmillan nurses provide medical\, emotional\, practical and financial support\, as well as campaigning for better cancer care. Cancer affects more than just those facing it\, and the specially trained Macmillan nurses are there for friends and family too. \nJoin the world’s biggest coffee morning and help raise funds for Macmillan. \nClick here for more information about Macmillan.
URL:https://www.millhouseprimary.co.uk/event/macmillan-coffee-morning-2/
LOCATION:School
CATEGORIES:Charity fundraising event,School events
END:VEVENT
BEGIN:VEVENT
DTSTART;VALUE=DATE:20160923
DTEND;VALUE=DATE:20160924
DTSTAMP:20260419T162950
CREATED:20180920T230018Z
LAST-MODIFIED:20180912T140510Z
UID:1249-1474588800-1474675199@www.millhouseprimary.co.uk
SUMMARY:Jeans for Genes Day
DESCRIPTION:In the UK 1 in 25 children has a genetic disorder. Help raise awareness and funds for further research and bring your children to school in their jeans and help change lives! Children can make a donation of £1 and come to school in their best denim. Simply turn up in your jeans\, feel free to accessories and decorate your jeans if you wish! \nDare any of the teaching staff risk double denim? \nFor further information about Jeans for Genes day and genetic disorders visit the official website. \n 
URL:https://www.millhouseprimary.co.uk/event/jeans-for-genes-day/
LOCATION:School
CATEGORIES:Charity fundraising event,School events
END:VEVENT
BEGIN:VEVENT
DTSTART;TZID=Europe/London:20160623T090000
DTEND;TZID=Europe/London:20160623T150000
DTSTAMP:20260419T162950
CREATED:20160610T212024Z
LAST-MODIFIED:20160610T212141Z
UID:1160-1466672400-1466694000@www.millhouseprimary.co.uk
SUMMARY:Fell run
DESCRIPTION:The annual fell run event will take place\, obviously weather dependant.
URL:https://www.millhouseprimary.co.uk/event/fell-run/
CATEGORIES:Healthy week,School events,Sports event
END:VEVENT
BEGIN:VEVENT
DTSTART;TZID=Europe/London:20160614T090000
DTEND;TZID=Europe/London:20160614T150000
DTSTAMP:20260419T162950
CREATED:20160610T203956Z
LAST-MODIFIED:20160610T203956Z
UID:1154-1465894800-1465916400@www.millhouseprimary.co.uk
SUMMARY:George the Chef
DESCRIPTION:Another visit from the superb ‘George the Chef’ who will be helping our children understand where our food comes from and how it gets from the farm to th shop and then to our plate. 🍽 #georgethechef #healthyweek
URL:https://www.millhouseprimary.co.uk/event/george-the-chef/
LOCATION:School
CATEGORIES:Healthy week,School events
END:VEVENT
BEGIN:VEVENT
DTSTART;TZID=Europe/London:20160614T000000
DTEND;TZID=Europe/London:20160614T153000
DTSTAMP:20260419T162950
CREATED:20160610T205339Z
LAST-MODIFIED:20160610T210128Z
UID:1155-1465862400-1465918200@www.millhouseprimary.co.uk
SUMMARY:Athletics - Year 5 and 6 🏆
DESCRIPTION:Annual athletics competition held at Dorothy Hyman Sports Stadium. \nPlease remember to return permission slips to school. \nClick here for more information about Dorothy Hyman Sports Stadium. \n 
URL:https://www.millhouseprimary.co.uk/event/athletics-year-5-and-6-%f0%9f%8f%86/
LOCATION:Dorothy Hyman Sports Stadium
CATEGORIES:Healthy week,School events,School Trips,Sports event
END:VEVENT
BEGIN:VEVENT
DTSTART;TZID=Europe/London:20160613T093000
DTEND;TZID=Europe/London:20160613T113000
DTSTAMP:20260419T162950
CREATED:20160610T202512Z
LAST-MODIFIED:20160610T203221Z
UID:1151-1465810200-1465817400@www.millhouseprimary.co.uk
SUMMARY:Sports day 👟👟
DESCRIPTION:Join us from 930 when the children of Millhouse School will be taking part in some fun\, friendly competitive challenges including the traditional three legged race\, the always close run welly throwing competition and the exciting scuttle run. \nSo who will be representing Team GB at future Olympics? Could it be one of our little superstars? \nRefreshments are available and this year\, they have kindly been donated by the local Penistone Spar. \nSeating will be provided but feel free to bring along a picnic blanket. \n(NB if weather is unsuitable event will be rescheduled to 20 June)
URL:https://www.millhouseprimary.co.uk/event/sports-day-%f0%9f%91%9f%f0%9f%91%9f/
LOCATION:School field
CATEGORIES:School events
END:VEVENT
BEGIN:VEVENT
DTSTART;VALUE=DATE:20160613
DTEND;VALUE=DATE:20160618
DTSTAMP:20260419T162950
CREATED:20160513T133852Z
LAST-MODIFIED:20160513T133852Z
UID:1113-1465776000-1466207999@www.millhouseprimary.co.uk
SUMMARY:Healthy Week
DESCRIPTION:All week we will be learning about healthy living taking part in fun activities including discussions about healthy food; living a active and healthy lifestyle; sports activities and discovering new recipes. \n 
URL:https://www.millhouseprimary.co.uk/event/healthy-week/
LOCATION:School
CATEGORIES:School events
END:VEVENT
BEGIN:VEVENT
DTSTART;VALUE=DATE:20160526
DTEND;VALUE=DATE:20160527
DTSTAMP:20260419T162950
CREATED:20160513T130005Z
LAST-MODIFIED:20160513T130005Z
UID:1111-1464220800-1464307199@www.millhouseprimary.co.uk
SUMMARY:Superhero Day!
DESCRIPTION:As part of Hallam FM’s annual fundraiser ‘Cash For Kids’ we are inviting children to come along to school dressed as their favourite superhero. \nWill we have our own Bathman vs. Superman and will Wonder Woman challenge Catwoman to a dance off in the play ground? \nFor more information about Hallam FM’s Cash for Kids visit their website www.hallamfm.co.uk. \n \n 
URL:https://www.millhouseprimary.co.uk/event/superhero-day/
LOCATION:School
CATEGORIES:Charity fundraising event,School events
END:VEVENT
BEGIN:VEVENT
DTSTART;TZID=Europe/London:20151215T090000
DTEND;TZID=Europe/London:20151215T110000
DTSTAMP:20260419T162950
CREATED:20150911T131835Z
LAST-MODIFIED:20150911T131835Z
UID:945-1450170000-1450177200@www.millhouseprimary.co.uk
SUMMARY:Christmas Fayre
DESCRIPTION:Join us for our annual Christmas Fayre and help to raise funds for our school. Tea\, coffee and cakes will be on sale as well as the usual and some unusual gifts\, ideal for any last minute shopping. \n 
URL:https://www.millhouseprimary.co.uk/event/christmas-fayre/
LOCATION:Main Hall
CATEGORIES:Charity fundraising event,School events
END:VEVENT
BEGIN:VEVENT
DTSTART;TZID=Europe/London:20151209T093000
DTEND;TZID=Europe/London:20151209T103000
DTSTAMP:20260419T162950
CREATED:20150911T130502Z
LAST-MODIFIED:20150911T131107Z
UID:942-1449653400-1449657000@www.millhouseprimary.co.uk
SUMMARY:Nativity - KS1- The Ducklings\, Wise Owls and Woodpeckers
DESCRIPTION:Let the staff and children of Millhouse Primary School help you to kick of the festival season with lots of giggles and ‘ahhhs’ as our KS1 children perform in our annual school nativity. You will be dazzled by our angels and out smarted by our wise men but you will be sure to leave full of pride and festive cheer! \nTickets will be on sale from the school office. Further details will follow. \nNo donkeys allowed 😉
URL:https://www.millhouseprimary.co.uk/event/nativity-ks1/
LOCATION:Main Hall
CATEGORIES:School events
END:VEVENT
BEGIN:VEVENT
DTSTART;TZID=Europe/London:20151022T173000
DTEND;TZID=Europe/London:20151022T183000
DTSTAMP:20260419T162950
CREATED:20151006T175627Z
LAST-MODIFIED:20151006T182556Z
UID:1022-1445535000-1445538600@www.millhouseprimary.co.uk
SUMMARY:Halloween Disco
DESCRIPTION:Double\, double\, toil and trouble\, \nFire burn and cauldron bubble… \nChildren are welcome to join us for our annual Halloween Disco…if they dare (mwahhhaa haaa haaaa!) But will the costumes be as good as last year? \nchildren will receive a snack and drink. \n 
URL:https://www.millhouseprimary.co.uk/event/1022/
LOCATION:Main Hall
CATEGORIES:School events
END:VEVENT
BEGIN:VEVENT
DTSTART;TZID=Europe/London:20151021T153000
DTEND;TZID=Europe/London:20151021T173000
DTSTAMP:20260419T162950
CREATED:20150918T121349Z
LAST-MODIFIED:20150918T121722Z
UID:967-1445441400-1445448600@www.millhouseprimary.co.uk
SUMMARY:Change 4 Life after school programme
DESCRIPTION:Keep the kids busy with Change 4 Life free activities for all the family\, plus free stuff! \nClick here for more information.
URL:https://www.millhouseprimary.co.uk/event/change-4-life-after-school-programme-5/
LOCATION:School
CATEGORIES:School events
END:VEVENT
BEGIN:VEVENT
DTSTART;TZID=Europe/London:20151008T153000
DTEND;TZID=Europe/London:20151008T190000
DTSTAMP:20260419T162950
CREATED:20150912T161634Z
LAST-MODIFIED:20151005T152343Z
UID:951-1444318200-1444330800@www.millhouseprimary.co.uk
SUMMARY:Parents evening
DESCRIPTION:An opportunity to meet your child’s teacher and discuss their progress and behaviours within school. This is also your chance to ask any questions you may have. \nFurther information about booking your one-2-one will be issued soon.
URL:https://www.millhouseprimary.co.uk/event/parents-evening-2/
LOCATION:School
CATEGORIES:Meeting,School events
END:VEVENT
BEGIN:VEVENT
DTSTART;TZID=Europe/London:20150916T090000
DTEND;TZID=Europe/London:20150916T100000
DTSTAMP:20260419T162950
CREATED:20150912T162508Z
LAST-MODIFIED:20150912T162508Z
UID:952-1442394000-1442397600@www.millhouseprimary.co.uk
SUMMARY:Friends of Millhouse School meeting
DESCRIPTION:Come along to our next meeting\, share your ideas and meet new people. Everyone is welcome!
URL:https://www.millhouseprimary.co.uk/event/friends-of-millhouse-school-meeting/
LOCATION:School
CATEGORIES:Meeting,School events
END:VEVENT
BEGIN:VEVENT
DTSTART;TZID=Europe/London:20150717T090000
DTEND;TZID=Europe/London:20150717T100000
DTSTAMP:20260419T162950
CREATED:20150519T083212Z
LAST-MODIFIED:20150617T203042Z
UID:837-1437123600-1437127200@www.millhouseprimary.co.uk
SUMMARY:Leavers Assembly
DESCRIPTION:We say a fond farewell and wish all of our year 6 leavers the very best of luck as they move on to high school.
URL:https://www.millhouseprimary.co.uk/event/leavers-assembly/
LOCATION:Main Hall
CATEGORIES:School events
END:VEVENT
BEGIN:VEVENT
DTSTART;TZID=Europe/London:20150710T093000
DTEND;TZID=Europe/London:20150710T113000
DTSTAMP:20260419T162950
CREATED:20150504T173313Z
LAST-MODIFIED:20150611T112851Z
UID:829-1436520600-1436527800@www.millhouseprimary.co.uk
SUMMARY:Fell Race
DESCRIPTION:
URL:https://www.millhouseprimary.co.uk/event/fell-race/
CATEGORIES:School events
END:VEVENT
BEGIN:VEVENT
DTSTART;TZID=Europe/London:20150709T180000
DTEND;TZID=Europe/London:20150709T193000
DTSTAMP:20260419T162950
CREATED:20150519T082711Z
LAST-MODIFIED:20150618T114712Z
UID:836-1436464800-1436470200@www.millhouseprimary.co.uk
SUMMARY:KS2 performance of Shakespeare's 'A Midsummer Night's Dream'
DESCRIPTION:Come along and enjoy an evening of Shakespeare right here in Millhouse Green presented by our very own KS2 pupils with assistance from some of our more theatrical (and not so theatrical) members of staff. \nPlease note all children taking part in the production are required to be in school by 5:30pm.
URL:https://www.millhouseprimary.co.uk/event/ks2-performance-2/
LOCATION:Main Hall
CATEGORIES:School events
END:VEVENT
BEGIN:VEVENT
DTSTART;VALUE=DATE:20150709
DTEND;VALUE=DATE:20150710
DTSTAMP:20260419T162950
CREATED:20150617T212532Z
LAST-MODIFIED:20150617T212828Z
UID:885-1436400000-1436400000@www.millhouseprimary.co.uk
SUMMARY:Den building and camp out\, Year 6
DESCRIPTION:An exciting night and morning of fun\, games\, songs\, building creative dens and camping out on the school field for year 6! \nFurther details will be on the website soon including a more detailed itinerary and list of essentials for each of the students.
URL:https://www.millhouseprimary.co.uk/event/den-building-and-camp-out-year-6/
LOCATION:School field
CATEGORIES:School events,School Trips
END:VEVENT
BEGIN:VEVENT
DTSTART;TZID=Europe/London:20150708T093000
DTEND;TZID=Europe/London:20150708T103000
DTSTAMP:20260419T162950
CREATED:20150519T082547Z
LAST-MODIFIED:20150617T195600Z
UID:834-1436347800-1436351400@www.millhouseprimary.co.uk
SUMMARY:KS2 performance - Shakespeare's 'A Mid-Summer Night's Dream'
DESCRIPTION:Come along and enjoy an evening of Shakespeare right here in Millhouse Green presented by our very own KS2 pupils with assistance from some of our more theatrical (and not so theatrical) members of staff.
URL:https://www.millhouseprimary.co.uk/event/ks2-performance/
LOCATION:Main Hall
CATEGORIES:School events
END:VEVENT
BEGIN:VEVENT
DTSTART;TZID=Europe/London:20150707T090000
DTEND;TZID=Europe/London:20150707T150000
DTSTAMP:20260419T162950
CREATED:20150618T204428Z
LAST-MODIFIED:20150618T205540Z
UID:898-1436259600-1436281200@www.millhouseprimary.co.uk
SUMMARY:George the Chef visits Millhouse School
DESCRIPTION:George the Chef is coming along to visit the children as part of our Healthy Week and will explain\, educate and demonstrate exactly where and how exactly our food gets from the farm to our fork. #healthyweek🍴
URL:https://www.millhouseprimary.co.uk/event/george-the-chef-visits-millhouse-school/
LOCATION:Main Hall
CATEGORIES:School events
END:VEVENT
BEGIN:VEVENT
DTSTART;VALUE=DATE:20150701
DTEND;VALUE=DATE:20150702
DTSTAMP:20260419T162950
CREATED:20150617T211336Z
LAST-MODIFIED:20150618T113544Z
UID:884-1435708800-1435795199@www.millhouseprimary.co.uk
SUMMARY:Moving up day
DESCRIPTION:All of our children will be getting introduced to their new class rooms and surroundings\, familiarising themselves with new teachers ready for when they return in September.
URL:https://www.millhouseprimary.co.uk/event/moving-up-day/
CATEGORIES:School events
END:VEVENT
END:VCALENDAR