BEGIN:VCALENDAR
VERSION:2.0
PRODID:-//Millhouse Primary School - ECPv6.0.5//NONSGML v1.0//EN
CALSCALE:GREGORIAN
METHOD:PUBLISH
X-WR-CALNAME:Millhouse Primary School
X-ORIGINAL-URL:https://www.millhouseprimary.co.uk
X-WR-CALDESC:Events for Millhouse Primary School
REFRESH-INTERVAL;VALUE=DURATION:PT1H
X-Robots-Tag:noindex
X-PUBLISHED-TTL:PT1H
BEGIN:VTIMEZONE
TZID:Europe/London
BEGIN:DAYLIGHT
TZOFFSETFROM:+0000
TZOFFSETTO:+0100
TZNAME:BST
DTSTART:20150329T010000
END:DAYLIGHT
BEGIN:STANDARD
TZOFFSETFROM:+0100
TZOFFSETTO:+0000
TZNAME:GMT
DTSTART:20151025T010000
END:STANDARD
END:VTIMEZONE
BEGIN:VEVENT
DTSTART;VALUE=DATE:20150629
DTEND;VALUE=DATE:20150630
DTSTAMP:20260419T220023
CREATED:20150617T210257Z
LAST-MODIFIED:20150618T113031Z
UID:883-1435536000-1435622399@www.millhouseprimary.co.uk
SUMMARY:Bring your donations in for the Summer Fayre.
DESCRIPTION:If you can help support our annual Summer Fayre and can donate any of the following we would be very grateful. We need raffle and tombola prizes\, toys and games\, cakes (bought and home-made) and bottles – please bring donations by the end of today. \nThank you for your support and we look forward to seeing you at the fayre on 30 June.
URL:https://www.millhouseprimary.co.uk/event/bring-your-donations-in-for-the-summer-fayre/
CATEGORIES:School events
END:VEVENT
BEGIN:VEVENT
DTSTART;VALUE=DATE:20150625
DTEND;VALUE=DATE:20150626
DTSTAMP:20260419T220023
CREATED:20150504T172819Z
LAST-MODIFIED:20150617T194650Z
UID:824-1435190400-1435276799@www.millhouseprimary.co.uk
SUMMARY:Penistone Grammer School taster day
DESCRIPTION:An opportunity for our year 6 children meet current students and teachers at Penistone Grammar School and experience what being a student at PGS is really like.
URL:https://www.millhouseprimary.co.uk/event/penistone-grammer-school-taster-day/
CATEGORIES:School events
END:VEVENT
END:VCALENDAR