BEGIN:VCALENDAR
VERSION:2.0
PRODID:-//Millhouse Primary School - ECPv6.0.5//NONSGML v1.0//EN
CALSCALE:GREGORIAN
METHOD:PUBLISH
X-ORIGINAL-URL:https://www.millhouseprimary.co.uk
X-WR-CALDESC:Events for Millhouse Primary School
REFRESH-INTERVAL;VALUE=DURATION:PT1H
X-Robots-Tag:noindex
X-PUBLISHED-TTL:PT1H
BEGIN:VTIMEZONE
TZID:Europe/London
BEGIN:DAYLIGHT
TZOFFSETFROM:+0000
TZOFFSETTO:+0100
TZNAME:BST
DTSTART:20160327T010000
END:DAYLIGHT
BEGIN:STANDARD
TZOFFSETFROM:+0100
TZOFFSETTO:+0000
TZNAME:GMT
DTSTART:20161030T010000
END:STANDARD
END:VTIMEZONE
BEGIN:VEVENT
DTSTART;VALUE=DATE:20161012
DTEND;VALUE=DATE:20161013
DTSTAMP:20260421T182833
CREATED:20160915T204043Z
LAST-MODIFIED:20160915T204112Z
UID:1257-1476230400-1476316799@www.millhouseprimary.co.uk
SUMMARY:Stone Age Day - KS2 (Classes 3\, 4\, 5)
DESCRIPTION:More information to follow.
URL:https://www.millhouseprimary.co.uk/event/stone-age-day-ks2-classes-3-4-5/
LOCATION:School
CATEGORIES:Sports event
END:VEVENT
END:VCALENDAR