BEGIN:VCALENDAR
VERSION:2.0
PRODID:-//Millhouse Primary School - ECPv6.0.5//NONSGML v1.0//EN
CALSCALE:GREGORIAN
METHOD:PUBLISH
X-ORIGINAL-URL:https://www.millhouseprimary.co.uk
X-WR-CALDESC:Events for Millhouse Primary School
REFRESH-INTERVAL;VALUE=DURATION:PT1H
X-Robots-Tag:noindex
X-PUBLISHED-TTL:PT1H
BEGIN:VTIMEZONE
TZID:Europe/London
BEGIN:DAYLIGHT
TZOFFSETFROM:+0000
TZOFFSETTO:+0100
TZNAME:BST
DTSTART:20160327T010000
END:DAYLIGHT
BEGIN:STANDARD
TZOFFSETFROM:+0100
TZOFFSETTO:+0000
TZNAME:GMT
DTSTART:20161030T010000
END:STANDARD
END:VTIMEZONE
BEGIN:VEVENT
DTSTART;TZID=Europe/London:20160614T000000
DTEND;TZID=Europe/London:20160614T153000
DTSTAMP:20260420T174413
CREATED:20160610T205339Z
LAST-MODIFIED:20160610T210128Z
UID:1155-1465862400-1465918200@www.millhouseprimary.co.uk
SUMMARY:Athletics - Year 5 and 6 🏆
DESCRIPTION:Annual athletics competition held at Dorothy Hyman Sports Stadium. \nPlease remember to return permission slips to school. \nClick here for more information about Dorothy Hyman Sports Stadium. \n 
URL:https://www.millhouseprimary.co.uk/event/athletics-year-5-and-6-%f0%9f%8f%86/
LOCATION:Dorothy Hyman Sports Stadium
CATEGORIES:Healthy week,School events,School Trips,Sports event
END:VEVENT
END:VCALENDAR