BEGIN:VCALENDAR
VERSION:2.0
PRODID:-//Millhouse Primary School - ECPv6.0.5//NONSGML v1.0//EN
CALSCALE:GREGORIAN
METHOD:PUBLISH
X-WR-CALNAME:Millhouse Primary School
X-ORIGINAL-URL:https://www.millhouseprimary.co.uk
X-WR-CALDESC:Events for Millhouse Primary School
REFRESH-INTERVAL;VALUE=DURATION:PT1H
X-Robots-Tag:noindex
X-PUBLISHED-TTL:PT1H
BEGIN:VTIMEZONE
TZID:Europe/London
BEGIN:DAYLIGHT
TZOFFSETFROM:+0000
TZOFFSETTO:+0100
TZNAME:BST
DTSTART:20150329T010000
END:DAYLIGHT
BEGIN:STANDARD
TZOFFSETFROM:+0100
TZOFFSETTO:+0000
TZNAME:GMT
DTSTART:20151025T010000
END:STANDARD
END:VTIMEZONE
BEGIN:VEVENT
DTSTART;TZID=Europe/London:20151209T093000
DTEND;TZID=Europe/London:20151209T103000
DTSTAMP:20260421T214036
CREATED:20150911T130502Z
LAST-MODIFIED:20150911T131107Z
UID:942-1449653400-1449657000@www.millhouseprimary.co.uk
SUMMARY:Nativity - KS1- The Ducklings\, Wise Owls and Woodpeckers
DESCRIPTION:Let the staff and children of Millhouse Primary School help you to kick of the festival season with lots of giggles and ‘ahhhs’ as our KS1 children perform in our annual school nativity. You will be dazzled by our angels and out smarted by our wise men but you will be sure to leave full of pride and festive cheer! \nTickets will be on sale from the school office. Further details will follow. \nNo donkeys allowed 😉
URL:https://www.millhouseprimary.co.uk/event/nativity-ks1/
LOCATION:Main Hall
CATEGORIES:School events
END:VEVENT
BEGIN:VEVENT
DTSTART;TZID=Europe/London:20151210T180000
DTEND;TZID=Europe/London:20151210T190000
DTSTAMP:20260421T214036
CREATED:20150911T131438Z
LAST-MODIFIED:20150911T131521Z
UID:944-1449770400-1449774000@www.millhouseprimary.co.uk
SUMMARY:Nativity - KS1 - The Ducklings\, Wise Owls\, Woodpeckers
DESCRIPTION:Let the staff and children of Millhouse Primary School help you to kick of the festival season with lots of giggles and ‘ahhhs’ as our KS1 children perform in our annual school nativity. You will be dazzled by our angels and out smarted by our wise men but you will be sure to leave full of pride and festive cheer! \nTickets will be on sale from the school office. Further details will follow. Performance time is to be confirmed. \nNo donkeys allowed 😉
URL:https://www.millhouseprimary.co.uk/event/nativity-ks1-the-ducklings-wise-owls-woodpeckers/
LOCATION:Main Hall
END:VEVENT
END:VCALENDAR