BEGIN:VCALENDAR
VERSION:2.0
PRODID:-//Millhouse Primary School - ECPv6.0.5//NONSGML v1.0//EN
CALSCALE:GREGORIAN
METHOD:PUBLISH
X-WR-CALNAME:Millhouse Primary School
X-ORIGINAL-URL:https://www.millhouseprimary.co.uk
X-WR-CALDESC:Events for Millhouse Primary School
REFRESH-INTERVAL;VALUE=DURATION:PT1H
X-Robots-Tag:noindex
X-PUBLISHED-TTL:PT1H
BEGIN:VTIMEZONE
TZID:Europe/London
BEGIN:DAYLIGHT
TZOFFSETFROM:+0000
TZOFFSETTO:+0100
TZNAME:BST
DTSTART:20160327T010000
END:DAYLIGHT
BEGIN:STANDARD
TZOFFSETFROM:+0100
TZOFFSETTO:+0000
TZNAME:GMT
DTSTART:20161030T010000
END:STANDARD
END:VTIMEZONE
BEGIN:VEVENT
DTSTART;TZID=Europe/London:20160613T093000
DTEND;TZID=Europe/London:20160613T113000
DTSTAMP:20260422T074703
CREATED:20160610T202512Z
LAST-MODIFIED:20160610T203221Z
UID:1151-1465810200-1465817400@www.millhouseprimary.co.uk
SUMMARY:Sports day 👟👟
DESCRIPTION:Join us from 930 when the children of Millhouse School will be taking part in some fun\, friendly competitive challenges including the traditional three legged race\, the always close run welly throwing competition and the exciting scuttle run. \nSo who will be representing Team GB at future Olympics? Could it be one of our little superstars? \nRefreshments are available and this year\, they have kindly been donated by the local Penistone Spar. \nSeating will be provided but feel free to bring along a picnic blanket. \n(NB if weather is unsuitable event will be rescheduled to 20 June)
URL:https://www.millhouseprimary.co.uk/event/sports-day-%f0%9f%91%9f%f0%9f%91%9f/
LOCATION:School field
CATEGORIES:School events
END:VEVENT
BEGIN:VEVENT
DTSTART;TZID=Europe/London:20160614T090000
DTEND;TZID=Europe/London:20160614T150000
DTSTAMP:20260422T074703
CREATED:20160610T203956Z
LAST-MODIFIED:20160610T203956Z
UID:1154-1465894800-1465916400@www.millhouseprimary.co.uk
SUMMARY:George the Chef
DESCRIPTION:Another visit from the superb ‘George the Chef’ who will be helping our children understand where our food comes from and how it gets from the farm to th shop and then to our plate. 🍽 #georgethechef #healthyweek
URL:https://www.millhouseprimary.co.uk/event/george-the-chef/
LOCATION:School
CATEGORIES:Healthy week,School events
END:VEVENT
BEGIN:VEVENT
DTSTART;TZID=Europe/London:20160616T090000
DTEND;TZID=Europe/London:20160616T153000
DTSTAMP:20260422T074703
CREATED:20160610T210648Z
LAST-MODIFIED:20160610T211343Z
UID:1158-1466067600-1466091000@www.millhouseprimary.co.uk
SUMMARY:TeamActiv+ Sports Sessions
DESCRIPTION:TeamActiv+ will be joining us for the day with some great sports games and sessions for the children to take part in. #healthyweek #teamactiv
URL:https://www.millhouseprimary.co.uk/event/teamactiv-sports-sessions/
LOCATION:School
END:VEVENT
BEGIN:VEVENT
DTSTART;TZID=Europe/London:20160623T090000
DTEND;TZID=Europe/London:20160623T150000
DTSTAMP:20260422T074703
CREATED:20160610T212024Z
LAST-MODIFIED:20160610T212141Z
UID:1160-1466672400-1466694000@www.millhouseprimary.co.uk
SUMMARY:Fell run
DESCRIPTION:The annual fell run event will take place\, obviously weather dependant.
URL:https://www.millhouseprimary.co.uk/event/fell-run/
CATEGORIES:Healthy week,School events,Sports event
END:VEVENT
END:VCALENDAR