BEGIN:VCALENDAR
VERSION:2.0
PRODID:-//Millhouse Primary School - ECPv6.0.5//NONSGML v1.0//EN
CALSCALE:GREGORIAN
METHOD:PUBLISH
X-ORIGINAL-URL:https://www.millhouseprimary.co.uk
X-WR-CALDESC:Events for Millhouse Primary School
REFRESH-INTERVAL;VALUE=DURATION:PT1H
X-Robots-Tag:noindex
X-PUBLISHED-TTL:PT1H
BEGIN:VTIMEZONE
TZID:Europe/London
BEGIN:DAYLIGHT
TZOFFSETFROM:+0000
TZOFFSETTO:+0100
TZNAME:BST
DTSTART:20150329T010000
END:DAYLIGHT
BEGIN:STANDARD
TZOFFSETFROM:+0100
TZOFFSETTO:+0000
TZNAME:GMT
DTSTART:20151025T010000
END:STANDARD
END:VTIMEZONE
BEGIN:VEVENT
DTSTART;TZID=Europe/London:20150630T091500
DTEND;TZID=Europe/London:20150630T091500
DTSTAMP:20260421T214625
CREATED:20150617T205746Z
LAST-MODIFIED:20150618T114034Z
UID:882-1435655700-1435655700@www.millhouseprimary.co.uk
SUMMARY:Summer Fayre 🌻🌾☀️
DESCRIPTION:Join children\, staff and volunteers at the annual school summer fayre! Win prizes on the tombola\, raffles and some very unique games developed\, created and made by some of our students! \n(If you can help support the event and can donate any of the following we would be grateful. We need raffle and tombola prizes\, toys and games\, cakes (bought and home-made) and bottles – please bring donations to school by Monday 29 June)
URL:https://www.millhouseprimary.co.uk/event/summer-fayre/
LOCATION:Main Hall
END:VEVENT
END:VCALENDAR