BEGIN:VCALENDAR
VERSION:2.0
PRODID:-//Millhouse Primary School - ECPv6.0.5//NONSGML v1.0//EN
CALSCALE:GREGORIAN
METHOD:PUBLISH
X-WR-CALNAME:Millhouse Primary School
X-ORIGINAL-URL:https://www.millhouseprimary.co.uk
X-WR-CALDESC:Events for Millhouse Primary School
REFRESH-INTERVAL;VALUE=DURATION:PT1H
X-Robots-Tag:noindex
X-PUBLISHED-TTL:PT1H
BEGIN:VTIMEZONE
TZID:Europe/London
BEGIN:DAYLIGHT
TZOFFSETFROM:+0000
TZOFFSETTO:+0100
TZNAME:BST
DTSTART:20150329T010000
END:DAYLIGHT
BEGIN:STANDARD
TZOFFSETFROM:+0100
TZOFFSETTO:+0000
TZNAME:GMT
DTSTART:20151025T010000
END:STANDARD
END:VTIMEZONE
BEGIN:VEVENT
DTSTART;TZID=Europe/London:20150707T090000
DTEND;TZID=Europe/London:20150707T150000
DTSTAMP:20260421T213027
CREATED:20150618T204428Z
LAST-MODIFIED:20150618T205540Z
UID:898-1436259600-1436281200@www.millhouseprimary.co.uk
SUMMARY:George the Chef visits Millhouse School
DESCRIPTION:George the Chef is coming along to visit the children as part of our Healthy Week and will explain\, educate and demonstrate exactly where and how exactly our food gets from the farm to our fork. #healthyweek🍴
URL:https://www.millhouseprimary.co.uk/event/george-the-chef-visits-millhouse-school/
LOCATION:Main Hall
CATEGORIES:School events
END:VEVENT
END:VCALENDAR